Package: Chromatograms Version: 1.1.0 Command: /Library/Frameworks/R.framework/Resources/bin/R CMD build --keep-empty-dirs --no-resave-data Chromatograms StartedAt: 2025-11-26 16:27:47 -0500 (Wed, 26 Nov 2025) EndedAt: 2025-11-26 16:28:38 -0500 (Wed, 26 Nov 2025) EllapsedTime: 51.3 seconds RetCode: 0 Status: OK PackageFile: Chromatograms_1.1.0.tar.gz PackageFileSize: 968.4 KiB