Package: Chromatograms Version: 1.1.0 Command: rm -rf Chromatograms.buildbin-libdir && mkdir Chromatograms.buildbin-libdir && /Users/biocbuild/BBS/utils/build-universal.sh Chromatograms_1.1.0.tar.gz /Library/Frameworks/R.framework/Resources/bin/R Chromatograms.buildbin-libdir StartedAt: 2025-11-27 01:24:59 -0500 (Thu, 27 Nov 2025) EndedAt: 2025-11-27 01:25:21 -0500 (Thu, 27 Nov 2025) EllapsedTime: 21.9 seconds RetCode: 0 Status: OK PackageFile: Chromatograms_1.1.0.tgz PackageFileSize: 1.321 MiB