Package: Chromatograms Version: 1.1.0 Command: /Library/Frameworks/R.framework/Resources/bin/R CMD INSTALL Chromatograms StartedAt: 2025-11-13 15:07:43 -0500 (Thu, 13 Nov 2025) EndedAt: 2025-11-13 15:07:49 -0500 (Thu, 13 Nov 2025) EllapsedTime: 5.9 seconds RetCode: 0 Status: OK