Package: Chromatograms Version: 1.1.0 Command: /Library/Frameworks/R.framework/Resources/bin/R CMD build --keep-empty-dirs --no-resave-data Chromatograms StartedAt: 2025-11-13 15:56:55 -0500 (Thu, 13 Nov 2025) EndedAt: 2025-11-13 15:57:12 -0500 (Thu, 13 Nov 2025) EllapsedTime: 17.2 seconds RetCode: 0 Status: OK PackageFile: Chromatograms_1.1.0.tar.gz PackageFileSize: 968.6 KiB