Package: Chromatograms Version: 1.1.0 Command: rm -rf Chromatograms.buildbin-libdir && mkdir Chromatograms.buildbin-libdir && /Users/biocbuild/BBS/utils/build-universal.sh Chromatograms_1.1.0.tar.gz /Library/Frameworks/R.framework/Resources/bin/R Chromatograms.buildbin-libdir StartedAt: 2025-11-13 23:31:38 -0500 (Thu, 13 Nov 2025) EndedAt: 2025-11-13 23:31:46 -0500 (Thu, 13 Nov 2025) EllapsedTime: 7.1 seconds RetCode: 0 Status: OK PackageFile: Chromatograms_1.1.0.tgz PackageFileSize: 1.322 MiB