Package: ChromHeatMap Version: 1.63.0 Command: /home/biocbuild/R/R/bin/R CMD INSTALL ChromHeatMap StartedAt: 2025-10-13 21:03:55 -0000 (Mon, 13 Oct 2025) EndedAt: 2025-10-13 21:04:39 -0000 (Mon, 13 Oct 2025) EllapsedTime: 44.4 seconds RetCode: 0 Status: OK