Package: ChromHeatMap Version: 1.63.0 Command: /home/biocbuild/R/R/bin/R CMD build --keep-empty-dirs --no-resave-data ChromHeatMap StartedAt: 2025-10-13 23:08:09 -0000 (Mon, 13 Oct 2025) EndedAt: 2025-10-13 23:09:10 -0000 (Mon, 13 Oct 2025) EllapsedTime: 61.0 seconds RetCode: 0 Status: OK PackageFile: ChromHeatMap_1.63.0.tar.gz PackageFileSize: 311.9 KiB