Package: ChromHeatMap Version: 1.63.0 Command: chmod a+r ChromHeatMap -R && F:\biocbuild\bbs-3.22-bioc\R\bin\R.exe CMD build --keep-empty-dirs --no-resave-data ChromHeatMap StartedAt: 2025-08-14 19:06:49 -0400 (Thu, 14 Aug 2025) EndedAt: 2025-08-14 19:08:00 -0400 (Thu, 14 Aug 2025) EllapsedTime: 70.2 seconds RetCode: 0 Status: OK PackageFile: ChromHeatMap_1.63.0.tar.gz PackageFileSize: 217.5 KiB