Package: ChromHeatMap Version: 1.61.0 Command: rm -rf ChromHeatMap.buildbin-libdir && mkdir ChromHeatMap.buildbin-libdir && E:\biocbuild\bbs-3.21-bioc\R\bin\R.exe CMD INSTALL --build --library=ChromHeatMap.buildbin-libdir ChromHeatMap_1.61.0.tar.gz StartedAt: 2025-02-17 07:13:58 -0500 (Mon, 17 Feb 2025) EndedAt: 2025-02-17 07:14:48 -0500 (Mon, 17 Feb 2025) EllapsedTime: 50.0 seconds RetCode: 0 Status: OK PackageFile: ChromHeatMap_1.61.0.zip PackageFileSize: 577.4 KiB