Package: ChromHeatMap Version: 1.61.0 Command: /home/biocbuild/R/R/bin/R CMD INSTALL ChromHeatMap StartedAt: 2025-01-29 19:52:18 -0000 (Wed, 29 Jan 2025) EndedAt: 2025-01-29 19:53:04 -0000 (Wed, 29 Jan 2025) EllapsedTime: 46.4 seconds RetCode: 0 Status: OK