Package: Chicago Version: 1.37.1 Command: chmod a+r Chicago -R && F:\biocbuild\bbs-3.22-bioc\R\bin\R.exe CMD build --keep-empty-dirs --no-resave-data Chicago StartedAt: 2025-08-14 19:04:38 -0400 (Thu, 14 Aug 2025) EndedAt: 2025-08-14 19:06:47 -0400 (Thu, 14 Aug 2025) EllapsedTime: 129.2 seconds RetCode: 0 Status: OK PackageFile: Chicago_1.37.1.tar.gz PackageFileSize: 785.3 KiB