Package: Chicago Version: 1.37.1 Command: rm -rf Chicago.buildbin-libdir && mkdir Chicago.buildbin-libdir && /Users/biocbuild/BBS/utils/build-universal.sh Chicago_1.37.1.tar.gz /Library/Frameworks/R.framework/Resources/bin/R Chicago.buildbin-libdir StartedAt: 2025-10-03 22:33:42 -0400 (Fri, 03 Oct 2025) EndedAt: 2025-10-03 22:33:46 -0400 (Fri, 03 Oct 2025) EllapsedTime: 4.1 seconds RetCode: 0 Status: OK PackageFile: Chicago_1.37.1.tgz PackageFileSize: 1.466 MiB