Package: ChemmineR Version: 3.59.0 Command: chmod a+r ChemmineR -R && E:\biocbuild\bbs-3.21-bioc\R\bin\R.exe CMD build --keep-empty-dirs --no-resave-data ChemmineR StartedAt: 2025-02-03 18:00:35 -0500 (Mon, 03 Feb 2025) EndedAt: 2025-02-03 18:02:43 -0500 (Mon, 03 Feb 2025) EllapsedTime: 128.2 seconds RetCode: 1 Status: ERROR PackageFile: None PackageFileSize: NA