Package: ChemmineR Version: 3.59.0 Command: rm -rf ChemmineR.buildbin-libdir && mkdir ChemmineR.buildbin-libdir && E:\biocbuild\bbs-3.21-bioc\R\bin\R.exe CMD INSTALL --build --library=ChemmineR.buildbin-libdir ChemmineR_3.59.0.tar.gz StartedAt: 2025-02-03 07:01:16 -0500 (Mon, 03 Feb 2025) EndedAt: 2025-02-03 07:04:14 -0500 (Mon, 03 Feb 2025) EllapsedTime: 178.2 seconds RetCode: 0 Status: OK PackageFile: ChemmineR_3.59.0.zip PackageFileSize: 2.174 MiB