Package: ChemmineR Version: 3.61.2 Command: /home/biocbuild/bbs-3.22-bioc/R/bin/R CMD INSTALL ChemmineR StartedAt: 2025-10-01 15:14:10 -0400 (Wed, 01 Oct 2025) EndedAt: 2025-10-01 15:14:34 -0400 (Wed, 01 Oct 2025) EllapsedTime: 24.7 seconds RetCode: 0 Status: OK