Package: ChemmineR Version: 3.61.2 Command: /home/biocbuild/bbs-3.22-bioc/R/bin/R CMD build --keep-empty-dirs --no-resave-data --md5 ChemmineR StartedAt: 2025-10-02 16:45:15 -0400 (Thu, 02 Oct 2025) EndedAt: 2025-10-02 16:46:08 -0400 (Thu, 02 Oct 2025) EllapsedTime: 53.0 seconds RetCode: 0 Status: OK PackageFile: ChemmineR_3.61.2.tar.gz PackageFileSize: 2.106 MiB