Package: ChemmineR Version: 3.59.0 Command: /home/biocbuild/bbs-3.21-bioc/R/bin/R CMD INSTALL ChemmineR StartedAt: 2025-02-03 15:20:46 -0500 (Mon, 03 Feb 2025) EndedAt: 2025-02-03 15:21:10 -0500 (Mon, 03 Feb 2025) EllapsedTime: 24.5 seconds RetCode: 0 Status: OK