Package: ChemmineR Version: 3.59.0 Command: /Library/Frameworks/R.framework/Resources/bin/R CMD build --keep-empty-dirs --no-resave-data ChemmineR StartedAt: 2025-02-04 15:51:57 -0500 (Tue, 04 Feb 2025) EndedAt: 2025-02-04 15:52:59 -0500 (Tue, 04 Feb 2025) EllapsedTime: 61.7 seconds RetCode: 1 Status: ERROR PackageFile: None PackageFileSize: NA