Package: ChemmineOB Version: 1.47.5 Command: chmod a+r ChemmineOB -R && F:\biocbuild\bbs-3.22-bioc\R\bin\R.exe CMD build --keep-empty-dirs --no-resave-data ChemmineOB StartedAt: 2025-08-14 19:04:18 -0400 (Thu, 14 Aug 2025) EndedAt: 2025-08-14 19:04:24 -0400 (Thu, 14 Aug 2025) EllapsedTime: 6.0 seconds RetCode: 1 Status: ERROR PackageFile: None PackageFileSize: NA