Package: ChemmineOB Version: 1.49.0 Command: /home/biocbuild/bbs-3.23-bioc/R/bin/R CMD INSTALL ChemmineOB StartedAt: 2025-11-23 15:12:40 -0500 (Sun, 23 Nov 2025) EndedAt: 2025-11-23 15:14:30 -0500 (Sun, 23 Nov 2025) EllapsedTime: 110.5 seconds RetCode: 0 Status: OK