Package: ChemmineOB Version: 1.45.0 Command: /Library/Frameworks/R.framework/Resources/bin/R CMD INSTALL ChemmineOB StartedAt: 2025-02-19 15:04:15 -0500 (Wed, 19 Feb 2025) EndedAt: 2025-02-19 15:05:58 -0500 (Wed, 19 Feb 2025) EllapsedTime: 102.7 seconds RetCode: 0 Status: OK