Package: ChemmineOB Version: 1.45.0 Command: /Library/Frameworks/R.framework/Resources/bin/R CMD check --install=check:ChemmineOB.install-out.txt --library=/Library/Frameworks/R.framework/Resources/library --no-vignettes --timings ChemmineOB_1.45.0.tar.gz StartedAt: 2025-02-20 19:26:20 -0500 (Thu, 20 Feb 2025) EndedAt: 2025-02-20 19:28:10 -0500 (Thu, 20 Feb 2025) EllapsedTime: 109.9 seconds RetCode: 0 Status: WARNINGS CheckDir: ChemmineOB.Rcheck Warnings: 2