Package: ChemmineOB Version: 1.45.0 Command: /Library/Frameworks/R.framework/Resources/bin/R CMD build --keep-empty-dirs --no-resave-data ChemmineOB StartedAt: 2025-02-20 15:52:18 -0500 (Thu, 20 Feb 2025) EndedAt: 2025-02-20 15:52:21 -0500 (Thu, 20 Feb 2025) EllapsedTime: 3.0 seconds RetCode: 1 Status: ERROR PackageFile: None PackageFileSize: NA