Package: ChemmineOB Version: 1.47.0 Maintainer: Thomas Girke MaintainerEmail: thomas.girke at ucr.edu git_url: https://git.bioconductor.org/packages/ChemmineOB git_branch: devel git_last_commit: 54e5be0 git_last_commit_date: 2025-04-15 10:26:03 -0400 (Tue, 15 Apr 2025)