Package: ChIPsim Version: 1.61.0 Command: rm -rf ChIPsim.buildbin-libdir && mkdir ChIPsim.buildbin-libdir && /Users/biocbuild/BBS/utils/build-universal.sh ChIPsim_1.61.0.tar.gz /Library/Frameworks/R.framework/Resources/bin/R ChIPsim.buildbin-libdir StartedAt: 2025-01-10 22:14:28 -0500 (Fri, 10 Jan 2025) EndedAt: 2025-01-10 22:14:42 -0500 (Fri, 10 Jan 2025) EllapsedTime: 13.2 seconds RetCode: 0 Status: OK PackageFile: ChIPsim_1.61.0.tgz PackageFileSize: 761.3 KiB