Package: ChIPseqR Version: 1.61.0 Command: E:\biocbuild\bbs-3.21-bioc\R\bin\R.exe CMD check --no-multiarch --install=check:ChIPseqR.install-out.txt --library=E:\biocbuild\bbs-3.21-bioc\R\library --no-vignettes --timings ChIPseqR_1.61.0.tar.gz StartedAt: 2025-02-05 00:02:52 -0500 (Wed, 05 Feb 2025) EndedAt: 2025-02-05 00:08:03 -0500 (Wed, 05 Feb 2025) EllapsedTime: 311.2 seconds RetCode: 0 Status: OK CheckDir: ChIPseqR.Rcheck Warnings: 0