Package: ChIPseqR Version: 1.61.0 Command: chmod a+r ChIPseqR -R && E:\biocbuild\bbs-3.21-bioc\R\bin\R.exe CMD build --keep-empty-dirs --no-resave-data ChIPseqR StartedAt: 2025-02-04 17:47:56 -0500 (Tue, 04 Feb 2025) EndedAt: 2025-02-04 17:49:55 -0500 (Tue, 04 Feb 2025) EllapsedTime: 119.4 seconds RetCode: 0 Status: OK PackageFile: ChIPseqR_1.61.0.tar.gz PackageFileSize: 548.5 KiB