Package: ChIPseqR Version: 1.61.0 Command: rm -rf ChIPseqR.buildbin-libdir && mkdir ChIPseqR.buildbin-libdir && E:\biocbuild\bbs-3.21-bioc\R\bin\R.exe CMD INSTALL --build --library=ChIPseqR.buildbin-libdir ChIPseqR_1.61.0.tar.gz StartedAt: 2025-02-05 07:38:36 -0500 (Wed, 05 Feb 2025) EndedAt: 2025-02-05 07:39:49 -0500 (Wed, 05 Feb 2025) EllapsedTime: 72.3 seconds RetCode: 0 Status: OK PackageFile: ChIPseqR_1.61.0.zip PackageFileSize: 1.337 MiB