Package: ChIPseqR Version: 1.61.0 Command: /Library/Frameworks/R.framework/Resources/bin/R CMD check --install=check:ChIPseqR.install-out.txt --library=/Library/Frameworks/R.framework/Resources/library --no-vignettes --timings ChIPseqR_1.61.0.tar.gz StartedAt: 2025-02-03 19:35:12 -0500 (Mon, 03 Feb 2025) EndedAt: 2025-02-03 19:39:39 -0500 (Mon, 03 Feb 2025) EllapsedTime: 266.4 seconds RetCode: 0 Status: OK CheckDir: ChIPseqR.Rcheck Warnings: 0