Package: ChIPseqR Version: 1.61.0 Command: /Library/Frameworks/R.framework/Resources/bin/R CMD INSTALL ChIPseqR StartedAt: 2025-02-03 15:53:20 -0500 (Mon, 03 Feb 2025) EndedAt: 2025-02-03 15:53:34 -0500 (Mon, 03 Feb 2025) EllapsedTime: 14.3 seconds RetCode: 0 Status: OK