Package: ChIPseqR Version: 1.61.0 Command: /Library/Frameworks/R.framework/Resources/bin/R CMD check --install=check:ChIPseqR.install-out.txt --library=/Library/Frameworks/R.framework/Resources/library --no-vignettes --timings ChIPseqR_1.61.0.tar.gz StartedAt: 2025-02-03 19:06:41 -0500 (Mon, 03 Feb 2025) EndedAt: 2025-02-03 19:08:21 -0500 (Mon, 03 Feb 2025) EllapsedTime: 100.1 seconds RetCode: 0 Status: OK CheckDir: ChIPseqR.Rcheck Warnings: 0