Package: ChIPseqR Version: 1.61.0 Command: rm -rf ChIPseqR.buildbin-libdir && mkdir ChIPseqR.buildbin-libdir && /Users/biocbuild/BBS/utils/build-universal.sh ChIPseqR_1.61.0.tar.gz /Library/Frameworks/R.framework/Resources/bin/R ChIPseqR.buildbin-libdir StartedAt: 2025-02-03 22:45:02 -0500 (Mon, 03 Feb 2025) EndedAt: 2025-02-03 22:45:19 -0500 (Mon, 03 Feb 2025) EllapsedTime: 16.3 seconds RetCode: 0 Status: OK PackageFile: ChIPseqR_1.61.0.tgz PackageFileSize: 1.51 MiB