Package: ChIPseeker Version: 1.43.0 Command: rm -rf ChIPseeker.buildbin-libdir && mkdir ChIPseeker.buildbin-libdir && E:\biocbuild\bbs-3.21-bioc\R\bin\R.exe CMD INSTALL --build --library=ChIPseeker.buildbin-libdir ChIPseeker_1.43.0.tar.gz StartedAt: 2025-02-04 07:40:52 -0500 (Tue, 04 Feb 2025) EndedAt: 2025-02-04 07:42:15 -0500 (Tue, 04 Feb 2025) EllapsedTime: 82.4 seconds RetCode: 0 Status: OK PackageFile: ChIPseeker_1.43.0.zip PackageFileSize: 6.632 MiB