Package: ChIPseeker Version: 1.43.0 Command: /home/biocbuild/bbs-3.21-bioc/R/bin/R CMD INSTALL ChIPseeker StartedAt: 2025-02-03 16:06:07 -0500 (Mon, 03 Feb 2025) EndedAt: 2025-02-03 16:06:54 -0500 (Mon, 03 Feb 2025) EllapsedTime: 47.6 seconds RetCode: 0 Status: OK