Package: ChIPseeker Version: 1.45.0 Command: /Library/Frameworks/R.framework/Resources/bin/R CMD check --install=check:ChIPseeker.install-out.txt --library=/Library/Frameworks/R.framework/Resources/library --no-vignettes --timings ChIPseeker_1.45.0.tar.gz StartedAt: 2025-05-01 18:33:15 -0400 (Thu, 01 May 2025) EndedAt: 2025-05-01 18:36:25 -0400 (Thu, 01 May 2025) EllapsedTime: 190.1 seconds RetCode: 0 Status: OK CheckDir: ChIPseeker.Rcheck Warnings: 0