Package: ChIPpeakAnno Version: 3.43.1 Command: /home/biocbuild/R/R/bin/R CMD build --keep-empty-dirs --no-resave-data ChIPpeakAnno StartedAt: 2025-10-02 22:44:33 -0000 (Thu, 02 Oct 2025) EndedAt: 2025-10-02 23:09:54 -0000 (Thu, 02 Oct 2025) EllapsedTime: 1521.1 seconds RetCode: 0 Status: OK PackageFile: ChIPpeakAnno_3.43.1.tar.gz PackageFileSize: 19.77 MiB