Package: ChIPpeakAnno Version: 3.41.1 Command: chmod a+r ChIPpeakAnno -R && E:\biocbuild\bbs-3.21-bioc\R\bin\R.exe CMD build --keep-empty-dirs --no-resave-data ChIPpeakAnno StartedAt: 2025-02-18 17:49:38 -0500 (Tue, 18 Feb 2025) EndedAt: 2025-02-18 17:53:36 -0500 (Tue, 18 Feb 2025) EllapsedTime: 237.8 seconds RetCode: 1 Status: ERROR PackageFile: None PackageFileSize: NA