Package: ChIPpeakAnno Version: 3.41.1 Command: rm -rf ChIPpeakAnno.buildbin-libdir && mkdir ChIPpeakAnno.buildbin-libdir && E:\biocbuild\bbs-3.21-bioc\R\bin\R.exe CMD INSTALL --build --library=ChIPpeakAnno.buildbin-libdir ChIPpeakAnno_3.41.1.tar.gz StartedAt: 2025-02-15 07:26:41 -0500 (Sat, 15 Feb 2025) EndedAt: 2025-02-15 07:29:42 -0500 (Sat, 15 Feb 2025) EllapsedTime: 181.6 seconds RetCode: 0 Status: OK PackageFile: ChIPpeakAnno_3.41.1.zip PackageFileSize: 20.68 MiB