Package: ChIPpeakAnno Version: 3.43.2 Command: /home/biocbuild/bbs-3.22-bioc/R/bin/R CMD INSTALL ChIPpeakAnno StartedAt: 2025-10-24 16:01:43 -0400 (Fri, 24 Oct 2025) EndedAt: 2025-10-24 16:03:30 -0400 (Fri, 24 Oct 2025) EllapsedTime: 106.6 seconds RetCode: 0 Status: OK