Package: ChIPpeakAnno Version: 3.43.2 Command: /home/biocbuild/bbs-3.22-bioc/R/bin/R CMD build --keep-empty-dirs --no-resave-data --md5 ChIPpeakAnno StartedAt: 2025-10-24 16:58:23 -0400 (Fri, 24 Oct 2025) EndedAt: 2025-10-24 17:14:11 -0400 (Fri, 24 Oct 2025) EllapsedTime: 947.9 seconds RetCode: 0 Status: OK PackageFile: ChIPpeakAnno_3.43.2.tar.gz PackageFileSize: 21.5 MiB