Package: ChIPpeakAnno Version: 3.41.1 Command: /Library/Frameworks/R.framework/Resources/bin/R CMD INSTALL ChIPpeakAnno StartedAt: 2025-02-17 15:22:25 -0500 (Mon, 17 Feb 2025) EndedAt: 2025-02-17 15:23:11 -0500 (Mon, 17 Feb 2025) EllapsedTime: 45.7 seconds RetCode: 0 Status: OK