Package: ChIPexoQual Version: 1.33.0 Command: /Library/Frameworks/R.framework/Resources/bin/R CMD INSTALL ChIPexoQual StartedAt: 2025-05-09 15:35:57 -0400 (Fri, 09 May 2025) EndedAt: 2025-05-09 15:36:59 -0400 (Fri, 09 May 2025) EllapsedTime: 61.1 seconds RetCode: 0 Status: OK