Package: ChIPanalyser Version: 1.31.0 Command: /home/biocbuild/bbs-3.22-bioc/R/bin/R CMD INSTALL ChIPanalyser StartedAt: 2025-09-30 15:29:53 -0400 (Tue, 30 Sep 2025) EndedAt: 2025-09-30 15:30:29 -0400 (Tue, 30 Sep 2025) EllapsedTime: 36.2 seconds RetCode: 0 Status: OK