Package: ChIPanalyser Version: 1.31.0 Command: /home/biocbuild/bbs-3.22-bioc/R/bin/R CMD build --keep-empty-dirs --no-resave-data --md5 ChIPanalyser StartedAt: 2025-09-30 16:44:33 -0400 (Tue, 30 Sep 2025) EndedAt: 2025-09-30 17:01:40 -0400 (Tue, 30 Sep 2025) EllapsedTime: 1027.0 seconds RetCode: 0 Status: OK PackageFile: ChIPanalyser_1.31.0.tar.gz PackageFileSize: 1.193 MiB