Package: ChIPQC Version: 1.45.0 Maintainer: Tom Carroll , Rory Stark MaintainerEmail: bioconductor at starkhome.com git_url: https://git.bioconductor.org/packages/ChIPQC git_branch: devel git_last_commit: e901de2 git_last_commit_date: 2025-04-15 10:30:13 -0400 (Tue, 15 Apr 2025)