Package: ChIPComp Version: 1.37.0 Command: /Library/Frameworks/R.framework/Resources/bin/R CMD build --keep-empty-dirs --no-resave-data ChIPComp StartedAt: 2025-01-31 15:52:44 -0500 (Fri, 31 Jan 2025) EndedAt: 2025-01-31 15:53:05 -0500 (Fri, 31 Jan 2025) EllapsedTime: 21.2 seconds RetCode: 0 Status: OK PackageFile: ChIPComp_1.37.0.tar.gz PackageFileSize: 595.2 KiB