Package: ChIPComp Version: 1.39.0 Maintainer: Li Chen MaintainerEmail: li.chen at emory.edu git_url: https://git.bioconductor.org/packages/ChIPComp git_branch: devel git_last_commit: ded52d4 git_last_commit_date: 2025-04-15 10:52:52 -0400 (Tue, 15 Apr 2025)