Package: ChAMP Version: 2.39.0 Command: chmod a+r ChAMP -R && F:\biocbuild\bbs-3.22-bioc\R\bin\R.exe CMD build --keep-empty-dirs --no-resave-data ChAMP StartedAt: 2025-08-14 19:04:14 -0400 (Thu, 14 Aug 2025) EndedAt: 2025-08-14 19:04:19 -0400 (Thu, 14 Aug 2025) EllapsedTime: 5.4 seconds RetCode: 1 Status: ERROR PackageFile: None PackageFileSize: NA