Package: ChAMP Version: 2.39.0 Command: rm -rf ChAMP.buildbin-libdir && mkdir ChAMP.buildbin-libdir && F:\biocbuild\bbs-3.22-bioc\R\bin\R.exe CMD INSTALL --build --library=ChAMP.buildbin-libdir ChAMP_2.39.0.tar.gz StartedAt: 2025-06-19 08:45:23 -0400 (Thu, 19 Jun 2025) EndedAt: 2025-06-19 08:47:05 -0400 (Thu, 19 Jun 2025) EllapsedTime: 102.1 seconds RetCode: 0 Status: OK PackageFile: ChAMP_2.39.0.zip PackageFileSize: 4.138 MiB