Package: ChAMP Version: 2.37.0 Command: E:\biocbuild\bbs-3.21-bioc\R\bin\R.exe CMD INSTALL ChAMP StartedAt: 2025-02-16 17:00:25 -0500 (Sun, 16 Feb 2025) EndedAt: 2025-02-16 17:01:29 -0500 (Sun, 16 Feb 2025) EllapsedTime: 64.1 seconds RetCode: 0 Status: OK